BEGIN:VCALENDAR
VERSION:2.0
PRODID:-//Krungthepkreetha Association - ECPv6.8.3//NONSGML v1.0//EN
CALSCALE:GREGORIAN
METHOD:PUBLISH
X-ORIGINAL-URL:http://www.krungthepkreetha.co.th
X-WR-CALDESC:Events for Krungthepkreetha Association
REFRESH-INTERVAL;VALUE=DURATION:PT1H
X-Robots-Tag:noindex
X-PUBLISHED-TTL:PT1H
BEGIN:VTIMEZONE
TZID:UTC
BEGIN:STANDARD
TZOFFSETFROM:+0000
TZOFFSETTO:+0000
TZNAME:UTC
DTSTART:20220101T000000
END:STANDARD
END:VTIMEZONE
BEGIN:VEVENT
DTSTART;TZID=UTC:20220504T080000
DTEND;TZID=UTC:20250509T170000
DTSTAMP:20260420T000331
CREATED:20200428T070523Z
LAST-MODIFIED:20241216T040328Z
UID:1215-1651651200-1746810000@www.krungthepkreetha.co.th
SUMMARY:แข้งขันกอล์ฟการกุศลประจำปี พ.ศ. 2567
DESCRIPTION:รายละเอียด  การแข่งขันกล์อฟการกุศลประจำปี พ.ศ. 2567
URL:http://www.krungthepkreetha.co.th/event/n7_golf_club-womens-amateur-championship/
CATEGORIES:Advanced
ATTACH;FMTTYPE=image/jpeg:http://www.krungthepkreetha.co.th/wp-content/uploads/2024/12/LINE_ALBUM_รูปกิจกรรม-การแข่งขันกอล์ฟสมาชิกสามั_241215_17.jpg
END:VEVENT
END:VCALENDAR